BEGIN:VCALENDAR
VERSION:2.0
PRODID:-//New Life Baptist Church - Kings Heath - ECPv6.15.20//NONSGML v1.0//EN
CALSCALE:GREGORIAN
METHOD:PUBLISH
X-WR-CALNAME:New Life Baptist Church - Kings Heath
X-ORIGINAL-URL:https://www.newlifebaptistchurch.org.uk
X-WR-CALDESC:Events for New Life Baptist Church - Kings Heath
REFRESH-INTERVAL;VALUE=DURATION:PT1H
X-Robots-Tag:noindex
X-PUBLISHED-TTL:PT1H
BEGIN:VTIMEZONE
TZID:Europe/London
BEGIN:DAYLIGHT
TZOFFSETFROM:+0000
TZOFFSETTO:+0100
TZNAME:BST
DTSTART:20250330T010000
END:DAYLIGHT
BEGIN:STANDARD
TZOFFSETFROM:+0100
TZOFFSETTO:+0000
TZNAME:GMT
DTSTART:20251026T010000
END:STANDARD
BEGIN:DAYLIGHT
TZOFFSETFROM:+0000
TZOFFSETTO:+0100
TZNAME:BST
DTSTART:20260329T010000
END:DAYLIGHT
BEGIN:STANDARD
TZOFFSETFROM:+0100
TZOFFSETTO:+0000
TZNAME:GMT
DTSTART:20261025T010000
END:STANDARD
BEGIN:DAYLIGHT
TZOFFSETFROM:+0000
TZOFFSETTO:+0100
TZNAME:BST
DTSTART:20270328T010000
END:DAYLIGHT
BEGIN:STANDARD
TZOFFSETFROM:+0100
TZOFFSETTO:+0000
TZNAME:GMT
DTSTART:20271031T010000
END:STANDARD
END:VTIMEZONE
BEGIN:VEVENT
DTSTART;TZID=Europe/London:20260224T100000
DTEND;TZID=Europe/London:20260224T120000
DTSTAMP:20260423T124246
CREATED:20260216T194153Z
LAST-MODIFIED:20260216T201623Z
UID:1574-1771927200-1771934400@www.newlifebaptistchurch.org.uk
SUMMARY:Playgroup
DESCRIPTION:Stay and Play\nPlaygroup is a stay and play session for children under 5. We have a range of different toys and activities\, a baby area and a large play area.\nCome and have a drink\, snack chat and play.\nWe run on Tuesday and Friday mornings 10 am to 12 noon during term time only.\nThere is a charge £1 for under 1 year olds\, £3 for over 1 year olds or £1.50 per sibling. \nFor more information or to book into playgroup please email playgroup@newlifebaptistchurch.org.uk.
URL:https://www.newlifebaptistchurch.org.uk/event/playgroup-24-02-2026/
LOCATION:New Life Baptist Church\, 80 High St\, Birmingham\, West Midlands\, B14 7JZ\, United Kingdom
CATEGORIES:NLBC,Playgroup
ATTACH;FMTTYPE=image/png:https://www.newlifebaptistchurch.org.uk/wp-content/uploads/2026/02/playgroup-hd.png
ORGANIZER;CN="NLBC Playgroup":MAILTO:playgroup@newlifebaptistchurch.org.uk
END:VEVENT
END:VCALENDAR